BEGIN:VCALENDAR
VERSION:2.0
PRODID:-//eventon.com NONSGML v1.0//EN
BEGIN:VEVENT
UID:69e66e9c7fd2b
DTSTAMP:20260420T182116
DTSTART:20220206T110000Z
DTEND:20220206T130000Z
LOCATION:
SUMMARY:Thanksgiving & Family Harvest
DESCRIPTION: Every 1st Sunday Service of the month at 11 am.
END:VEVENT
END:VCALENDAR