BEGIN:VCALENDAR
VERSION:2.0
PRODID:-//eventon.com NONSGML v1.0//EN
BEGIN:VEVENT
UID:69e7350ed847d
DTSTAMP:20260421T082758
DTSTART:20220209T093000Z
DTEND:20220209T100000Z
LOCATION:
SUMMARY:Church Worker's Meeting
DESCRIPTION: Church Worker's Meeting is held every Sunday. | Time: 9.30 am – 10.00 am
END:VEVENT
END:VCALENDAR